BEGIN:VCALENDAR
VERSION:2.0
PRODID:-//eventon.com NONSGML v1.0//EN
CALSCALE:GREGORIAN
METHOD:PUBLISH
BEGIN:VEVENT
UID:69ea6ab9aa51b
DTSTAMP:20260423T185345Z
DTSTART:20260622T190000Z
DTEND:20260622T200000Z
LOCATION:Wimbledon Dance Academy 71 Woodside
SUMMARY:Level 1 Beginners' Ballroom and Latin Dance Course 01/06/2026
DESCRIPTION:Beginner Ballroom &amp; Latin Dance Course (Level 1)No experien
 ce. No pressure. Just fun from your very first step. Think you have two lef
 t feet? Perfect—this course is made for you.In just a few weeks\,  you’
 ll go from hesitant beginner to confident dancer\,  ready to glide across t
 he floor with ease.[..]\nhttps://wimbledondanceacademy.uk/events/level-1-be
 ginners-ballroom-and-latin-dance-course-01-06-2026/var/ri-3.l-L1
URL:https://wimbledondanceacademy.uk/events/level-1-beginners-ballroom-and-latin-dance-course-01-06-2026/var/ri-3.l-L1
END:VEVENT
END:VCALENDAR