BEGIN:VCALENDAR
VERSION:2.0
PRODID:-//eventon.com NONSGML v1.0//EN
CALSCALE:GREGORIAN
METHOD:PUBLISH
BEGIN:VEVENT
UID:69eb7ca66fe22
DTSTAMP:20260424T142230Z
DTSTART:20260704T081500Z
DTEND:20260704T084500Z
LOCATION:Wimbledon Dance Academy 71 Woodside
SUMMARY:Reception Primary Beginners Ballet Class for Children 4-5 Years Old June/July 2026
DESCRIPTION:Reception Ballet Class for Children 4-5 years old. Fun class\, 
  full of very basic elements of classical ballet &amp; general co-ordinatio
 n exercises\,  lots of dance based games and imagination development. Child
 ren joining our ballet classes will need a full Royal Academy of Dance unif
 orm\,  including shoes\,  skirt\,  tights &amp; leotard.[..]\nhttps://wimbl
 edondanceacademy.uk/events/reception-primary-beginners-ballet-class-for-chi
 ldren-4-5-years-old-jun-jul-2026/var/ri-4.l-L1
URL:https://wimbledondanceacademy.uk/events/reception-primary-beginners-ballet-class-for-children-4-5-years-old-jun-jul-2026/var/ri-4.l-L1
END:VEVENT
END:VCALENDAR