BEGIN:VCALENDAR
VERSION:2.0
PRODID:-//eventon.com NONSGML v1.0//EN
CALSCALE:GREGORIAN
METHOD:PUBLISH
BEGIN:VEVENT
UID:69ea681980759
DTSTAMP:20260423T184233Z
DTSTART:20260619T163000Z
DTEND:20260619T173000Z
LOCATION:
SUMMARY:Urban and Street Dance Class for Teenagers June/July 2026
DESCRIPTION:This high-energy street dance class is a fun-filled fusion of u
 rban dance styles\,  tailored specifically for teenagers with mixed abiliti
 es and levels of experience. Whether you&#8217;re new to dance or have some
  moves already\,  each session is designed to help you feel confident\,  in
 cluded\,  and inspired. Our supportive environment encourages[..]\nhttps://
 wimbledondanceacademy.uk/events/urban-and-street-dance-class-for-teenagers-
 jun-jul-26/var/ri-2.l-L1
URL:https://wimbledondanceacademy.uk/events/urban-and-street-dance-class-for-teenagers-jun-jul-26/var/ri-2.l-L1
END:VEVENT
END:VCALENDAR