BEGIN:VCALENDAR
VERSION:2.0
PRODID:-//eventon.com NONSGML v1.0//EN
CALSCALE:GREGORIAN
METHOD:PUBLISH
BEGIN:VEVENT
UID:69ebf6b99697c
DTSTAMP:20260424T230321Z
DTSTART:20260627T120000Z
DTEND:20260627T130000Z
LOCATION:Wimbledon Dance Academy 71 Woodside
SUMMARY:12-16 years Intermediate Ballroom and Latin Class June/July 2026
DESCRIPTION:Intermediate Ballroom and Latin Dance Class (Ages 12–16) For 
 dancers with 1+ years of experience This class is designed for young dancer
 s ready to take their skills to the next level. Ideal for those with over a
  year of training\,  students should already have a basic understanding of 
 at least[..]\nhttps://wimbledondanceacademy.uk/events/12-16-years-intermedi
 ate-ballroom-and-latin-class-jun-jul-2026/var/ri-3.l-L1
URL:https://wimbledondanceacademy.uk/events/12-16-years-intermediate-ballroom-and-latin-class-jun-jul-2026/var/ri-3.l-L1
END:VEVENT
END:VCALENDAR